BEGIN:VCALENDAR
VERSION:2.0
PRODID:-//Intervins - ECPv5.1.6//NONSGML v1.0//EN
CALSCALE:GREGORIAN
METHOD:PUBLISH
X-WR-CALNAME:Intervins
X-ORIGINAL-URL:https://www.intervins-sudest.org
X-WR-CALDESC:évènements pour Intervins
BEGIN:VTIMEZONE
TZID:Europe/Paris
BEGIN:DAYLIGHT
TZOFFSETFROM:+0100
TZOFFSETTO:+0200
TZNAME:CEST
DTSTART:20190331T010000
END:DAYLIGHT
BEGIN:STANDARD
TZOFFSETFROM:+0200
TZOFFSETTO:+0100
TZNAME:CET
DTSTART:20191027T010000
END:STANDARD
END:VTIMEZONE
BEGIN:VEVENT
DTSTART;TZID=Europe/Paris:20190524T180000
DTEND;TZID=Europe/Paris:20190524T230000
DTSTAMP:20260420T230453
CREATED:20190523T165112Z
LAST-MODIFIED:20190523T165112Z
UID:1312-1558720800-1558738800@www.intervins-sudest.org
SUMMARY:Soirée de Gala autour de la vente aux enchères des vins rosés d'exception
DESCRIPTION:La Région Sud organise une soirée de Gala\, au Château La Coste\,  avec une vente aux enchères de rosés grand formats (Magnum\, Jéroboam\, Mathusalem\, etc.) au profit de la Fondation\, de Yann Arthus Bertrand\, GoodPlanet. \nIntervins Sud-Est s’associe à  cet événement prestigieux dans le cadre de sa stratégie de promotion des vins IGP Méditerranée\, Alpilles\, Pays des Bouches du Rhône & Vaucluse. \n 
URL:https://www.intervins-sudest.org/evenement/soiree-de-gala-autour-de-la-vente-aux-encheres-des-vins-roses-dexception/
ATTACH;FMTTYPE=image/jpeg:https://www.intervins-sudest.org/wp-content/uploads/2019/05/0001-e1558630218244.jpg
END:VEVENT
BEGIN:VEVENT
DTSTART;TZID=Europe/Paris:20190524T190000
DTEND;TZID=Europe/Paris:20190524T223000
DTSTAMP:20260420T230453
CREATED:20190523T160951Z
LAST-MODIFIED:20190523T161103Z
UID:1309-1558724400-1558737000@www.intervins-sudest.org
SUMMARY:IGP Vaucluse - Lancement de la sélection du restaurant Numéro 75
DESCRIPTION:La sélection estivale du Numéro 75\, c’est reparti. \nRetrouvez une sélection de vins IGP du Vaucluse dans ce lieu mythique pour accompagner le festival d’Avignon…. \n\n\n\n\nDès début juin\,  retrouverez une sélection de vins IGP du Vaucluse dans ce lieu mythique d’Avignon\, et ce jusque mi-août. \nRouges\, blancs et rosés vous seront proposés à la carte des vins au verre. Venez vivre une expérience culinaire et gustative tout au long de l’été.
URL:https://www.intervins-sudest.org/evenement/igp-vaucluse-lancement-de-la-selection-du-restaurant-numero-75-2/
LOCATION:le 75\, 75 Rue Guillaume Puy\, Avignon\, 84000
ATTACH;FMTTYPE=image/jpeg:https://www.intervins-sudest.org/wp-content/uploads/2018/05/02-jardin-5.jpg
ORGANIZER;CN="Syndicat%20des%20vins%20IGP%20du%20Vaucluse":MAILTO:contact@vins-igp-vaucluse.fr
END:VEVENT
BEGIN:VEVENT
DTSTART;TZID=Europe/Paris:20190524T190000
DTEND;TZID=Europe/Paris:20190525T000000
DTSTAMP:20260420T230453
CREATED:20190523T170825Z
LAST-MODIFIED:20190523T170916Z
UID:1324-1558724400-1558742400@www.intervins-sudest.org
SUMMARY:Soirée "On Air" - Friche la Belle de Mai
DESCRIPTION:La Friche La Belle de Mai à Marseille organise « les soirées On Air »\, du 24 mai au 30 septembre\, un immense toit terrasse au cœur de Marseille avec une programmation artistique riche\, deux bars à vins et plusieurs offres de restauration. Ce lieu s’anime toutes les fins de semaine du vendredi au dimanche. \nPour 2019\, Intervins Sud-Est s’associe à la Friche La Belle de Mai et met à l’honneur les vins IGP des Bouches du Rhône : Alpilles IGP\, Pays des Bouches du Rhône IGP\, Pays des Bouches du Rhône « Terre de Camargue » IGP et Méditerranée IGP du département 13.
URL:https://www.intervins-sudest.org/evenement/soiree-on-air-friche-la-belle-de-mai/
ATTACH;FMTTYPE=image/jpeg:https://www.intervins-sudest.org/wp-content/uploads/2019/05/P1020369.jpg
END:VEVENT
END:VCALENDAR